BEGIN:VCALENDAR
VERSION:2.0
PRODID:-//Fédération des syndicats CFTC-CSFV - ECPv6.9.0//NONSGML v1.0//EN
CALSCALE:GREGORIAN
METHOD:PUBLISH
X-WR-CALNAME:Fédération des syndicats CFTC-CSFV
X-ORIGINAL-URL:https://csfv.fr
X-WR-CALDESC:Évènements pour Fédération des syndicats CFTC-CSFV
REFRESH-INTERVAL;VALUE=DURATION:PT1H
X-Robots-Tag:noindex
X-PUBLISHED-TTL:PT1H
BEGIN:VTIMEZONE
TZID:Europe/Paris
BEGIN:DAYLIGHT
TZOFFSETFROM:+0100
TZOFFSETTO:+0200
TZNAME:CEST
DTSTART:20260329T010000
END:DAYLIGHT
BEGIN:STANDARD
TZOFFSETFROM:+0200
TZOFFSETTO:+0100
TZNAME:CET
DTSTART:20261025T010000
END:STANDARD
END:VTIMEZONE
BEGIN:VEVENT
DTSTART;VALUE=DATE:20260420
DTEND;VALUE=DATE:20260425
DTSTAMP:20260421T014421
CREATED:20251118T143850Z
LAST-MODIFIED:20251118T143850Z
UID:10000945-1776643200-1777075199@csfv.fr
SUMMARY:L'ÉCONOMIE DU CSE
DESCRIPTION:Public : élus titulaires\, membres de la délégation du personnel et RS au CSE d’une entreprise de 50 salariés et plus \nObjectifs de la formation : \n\nIdentifier les attributions d’un CSE d’une entreprise de 50 salariés et plus\nConnaître les règles de fonctionnement d’un CSE d’une entreprise de 50 salariés plus\nCibler les moyens d’action utiles à l’exercice de ses missions et apprendre à les utiliser en situation en adoptant la posture adéquate face à l’employeur\n\nProgramme : \n\nLes attributions des représentants du personnel d’un CSE « 50 salariés et plus »\nLe fonctionnement du CSE\nLes moyens d’action du CSE\n\n\nComme prévu par la loi\, ce stage est imputé sur le budget de fonctionnement du CSE. Vous trouverez ci-après les bases sur lesquelles seront calculés les frais liés à cette formation : \n\nFormation : 36 fois le SMIC horaire par jour et par personne\nHébergement : 140 € par nuitée à Paris (petit-déjeuner inclus)\nDéplacement : Tarif SNCF 2ème classe / Covoiturage / Avion et Taxi : sous réserve de validation préalable de nos services\nRepas : 20 € – sauf dispositions plus favorables prévues dans votre accord CSE\n\nTELECHARGER LE PROGRAMME DE FORMATION
URL:https://csfv.fr/formation/l-economie-du-cse-avril-2026/
LOCATION:Fédération CFTC-CSFV\, 34 quai de la Loire\, Paris\, 75019\, France
CATEGORIES:CSE
ATTACH;FMTTYPE=image/jpeg:https://csfv.fr/wp-content/uploads/2022/08/vignettes-formation-economie-du-cse.jpg
ORGANIZER;CN="Service Formation agr%C3%A9%C3%A9 par l'ISF-CFTC":MAILTO:formation@csfv.fr
GEO:48.8848179;2.3740736
X-APPLE-STRUCTURED-LOCATION;VALUE=URI;X-ADDRESS=Fédération CFTC-CSFV 34 quai de la Loire Paris 75019 France;X-APPLE-RADIUS=500;X-TITLE=34 quai de la Loire:geo:2.3740736,48.8848179
END:VEVENT
BEGIN:VEVENT
DTSTART;VALUE=DATE:20260421
DTEND;VALUE=DATE:20260423
DTSTAMP:20260421T014421
CREATED:20251118T143850Z
LAST-MODIFIED:20251121T083336Z
UID:10000953-1776729600-1776902399@csfv.fr
SUMMARY:CANVA
DESCRIPTION:Public : adhérents \nObjectifs de la formation : \n\nComprendre les principes de base de la conception graphique pour une communication efficace\, tant sur support papier que digital\nMaîtriser l’outil Canva pour créer des visuels percutants\nIntégrer efficacement les créations de Canva dans les communications et campagnes syndicales CFTC\n\nProgramme : \n\nPrésentation de Canva\nRévision des bases : application\, page de création\, programmation\, partage des visuels\nCréation de posts pour les réseaux sociaux\nVidéo et programmation automatique des posts\nConception d’un tract (Modification à partir d’un visuel existant)\nIntroduction à l’intelligence Artificielle et ses alternatives
URL:https://csfv.fr/formation/canva-avril-2026/
LOCATION:Fédération CFTC-CSFV\, 34 quai de la Loire\, Paris\, 75019\, France
CATEGORIES:TRANSMETTRE
ORGANIZER;CN="Service Formation agr%C3%A9%C3%A9 par l'ISF-CFTC":MAILTO:formation@csfv.fr
GEO:48.8848179;2.3740736
X-APPLE-STRUCTURED-LOCATION;VALUE=URI;X-ADDRESS=Fédération CFTC-CSFV 34 quai de la Loire Paris 75019 France;X-APPLE-RADIUS=500;X-TITLE=34 quai de la Loire:geo:2.3740736,48.8848179
END:VEVENT
END:VCALENDAR