BEGIN:VCALENDAR
VERSION:2.0
PRODID:-//Fédération des syndicats CFTC-CSFV - ECPv6.9.0//NONSGML v1.0//EN
CALSCALE:GREGORIAN
METHOD:PUBLISH
X-ORIGINAL-URL:https://csfv.fr
X-WR-CALDESC:Évènements pour Fédération des syndicats CFTC-CSFV
REFRESH-INTERVAL;VALUE=DURATION:PT1H
X-Robots-Tag:noindex
X-PUBLISHED-TTL:PT1H
BEGIN:VTIMEZONE
TZID:Europe/Paris
BEGIN:DAYLIGHT
TZOFFSETFROM:+0100
TZOFFSETTO:+0200
TZNAME:CEST
DTSTART:20240331T010000
END:DAYLIGHT
BEGIN:STANDARD
TZOFFSETFROM:+0200
TZOFFSETTO:+0100
TZNAME:CET
DTSTART:20241027T010000
END:STANDARD
END:VTIMEZONE
BEGIN:VEVENT
DTSTART;VALUE=DATE:20240130
DTEND;VALUE=DATE:20240202
DTSTAMP:20260422T123626
CREATED:20231206T133641Z
LAST-MODIFIED:20231206T133641Z
UID:10000745-1706572800-1706831999@csfv.fr
SUMMARY:LES ÉLECTIONS PROFESSIONNELLES
DESCRIPTION:Public : adhérents ayant suivi la Formation Initiale CFTC et militants en charge des élections DS\, RSS et militants impliqués en charge de la préparation des élections professionnelles et négociateurs PAP \nObjectifs de la formation : \n\nConstruire une stratégie de campagne électorale permettant à la CFTC de réussir les élection\nMettre en œuvre les étapes clefs de son plan d’action en communiquant auprès des salariés à chaque étape de la campagne électorale\nPréparer son protocole préélectoral pour mener à bien des négociations favorables à la CFTC\n\nProgramme : \n\nConstruire une stratégie de campagne électorale\nCommuniquer dans un contexte électoral\nPréparer un protocole d’accord préélectoral favorable à la CFTC\nGérer la dernière ligne droite de la campagne\nGérer le jour J\n\nTELECHARGER LE PROGRAMME DE FORMATION
URL:https://csfv.fr/formation/les-elections-professionnelles-janvier-2024/
LOCATION:Fédération CFTC-CSFV\, 34 quai de la Loire\, Paris\, 75019\, France
CATEGORIES:AGIR
ATTACH;FMTTYPE=image/jpeg:https://csfv.fr/wp-content/uploads/2022/08/vignettes-formation-les-elections-professionnelles.jpg
ORGANIZER;CN="Service Formation agr%C3%A9%C3%A9 par l'ISF-CFTC":MAILTO:formation@csfv.fr
GEO:48.8848179;2.3740736
X-APPLE-STRUCTURED-LOCATION;VALUE=URI;X-ADDRESS=Fédération CFTC-CSFV 34 quai de la Loire Paris 75019 France;X-APPLE-RADIUS=500;X-TITLE=34 quai de la Loire:geo:2.3740736,48.8848179
END:VEVENT
BEGIN:VEVENT
DTSTART;VALUE=DATE:20240206
DTEND;VALUE=DATE:20240209
DTSTAMP:20260422T123626
CREATED:20231206T133640Z
LAST-MODIFIED:20240116T081635Z
UID:10000746-1707177600-1707436799@csfv.fr
SUMMARY:DÉVELOPPER SA SECTION
DESCRIPTION:Public : adhérents ayant suivi la Formation Initiale CFTC et idéalement les modules Communication orale et écrite\, militants souhaitant participer au développement de la CFTC dans les entreprises ou établissements \nObjectifs de la formation : \n\nIdentifier le potentiel de création et/ou de développement d’une ou plusieurs sections CFTC\nElaborer un plan d’actions de développement d’une ou plusieurs sections en impliquant les adhérents CFTC\nMettre en place et organiser le travail d’équipe sur le terrain pour assurer le fonctionnement de la section\nConvaincre un sympathisant d’adhérer et de militer\n\nProgramme : \n\nConstruire un plan de développement dans sa section et repartir les actions\nConvaincre un sympathisant d’adhérer à la CFTC\nConvaincre un adhérent de militer\nConnaitre les enjeux d’une section syndicale pour développer efficacement\nRéaliser le diagnostic de la CFTC dans son entreprise\nFocus sur la communication : outil indispensable de développement\nLes formations complémentaires du module\n\nTELECHARGER LE PROGRAMME DE FORMATION
URL:https://csfv.fr/formation/developper-sa-section-fevrier-2024/
LOCATION:Fédération CFTC-CSFV\, 34 quai de la Loire\, Paris\, 75019\, France
CATEGORIES:AGIR
ATTACH;FMTTYPE=image/jpeg:https://csfv.fr/wp-content/uploads/2022/08/vignettes-formation-developper-sa-section.jpg
ORGANIZER;CN="Service Formation agr%C3%A9%C3%A9 par l'ISF-CFTC":MAILTO:formation@csfv.fr
GEO:48.8848179;2.3740736
X-APPLE-STRUCTURED-LOCATION;VALUE=URI;X-ADDRESS=Fédération CFTC-CSFV 34 quai de la Loire Paris 75019 France;X-APPLE-RADIUS=500;X-TITLE=34 quai de la Loire:geo:2.3740736,48.8848179
END:VEVENT
BEGIN:VEVENT
DTSTART;VALUE=DATE:20240213
DTEND;VALUE=DATE:20240216
DTSTAMP:20260422T123626
CREATED:20231206T133639Z
LAST-MODIFIED:20240131T144215Z
UID:10000748-1707782400-1708041599@csfv.fr
SUMMARY:LES NÉGOCIATIONS COLLECTIVES
DESCRIPTION:Public : adhérents ayant suivi la Formation Initiale CFTC \nObjectifs de la formation : \n\nAppréhender le cadre juridique de la négociation\nConnaître les stratégies des partenaires sociaux et en particulier de la CFTC en matière de négociation\nMaîtriser les techniques et tactiques de négociation\n\nProgramme : \n\nComment je vois la négociation\nLa CFTC en négociation\nLa communication dans la négociation\nLa stratégie dans la négociation\nLa technique et tactique de négociation\nLe cadre juridique\n\nTELECHARGER LE PROGRAMME DE FORMATION
URL:https://csfv.fr/formation/les-negociations-collectives-fevrier-2024/
LOCATION:Fédération CFTC-CSFV\, 34 quai de la Loire\, Paris\, 75019\, France
CATEGORIES:AGIR
ATTACH;FMTTYPE=image/jpeg:https://csfv.fr/wp-content/uploads/2022/08/vignettes-formation-les-negociations-collectives.jpg
ORGANIZER;CN="Service Formation agr%C3%A9%C3%A9 par l'ISF-CFTC":MAILTO:formation@csfv.fr
GEO:48.8848179;2.3740736
X-APPLE-STRUCTURED-LOCATION;VALUE=URI;X-ADDRESS=Fédération CFTC-CSFV 34 quai de la Loire Paris 75019 France;X-APPLE-RADIUS=500;X-TITLE=34 quai de la Loire:geo:2.3740736,48.8848179
END:VEVENT
END:VCALENDAR