BEGIN:VCALENDAR
VERSION:2.0
PRODID:-//Fédération des syndicats CFTC-CSFV - ECPv6.9.0//NONSGML v1.0//EN
CALSCALE:GREGORIAN
METHOD:PUBLISH
X-ORIGINAL-URL:https://csfv.fr
X-WR-CALDESC:Évènements pour Fédération des syndicats CFTC-CSFV
REFRESH-INTERVAL;VALUE=DURATION:PT1H
X-Robots-Tag:noindex
X-PUBLISHED-TTL:PT1H
BEGIN:VTIMEZONE
TZID:Europe/Paris
BEGIN:DAYLIGHT
TZOFFSETFROM:+0100
TZOFFSETTO:+0200
TZNAME:CEST
DTSTART:20240331T010000
END:DAYLIGHT
BEGIN:STANDARD
TZOFFSETFROM:+0200
TZOFFSETTO:+0100
TZNAME:CET
DTSTART:20241027T010000
END:STANDARD
END:VTIMEZONE
BEGIN:VEVENT
DTSTART;VALUE=DATE:20240424
DTEND;VALUE=DATE:20240426
DTSTAMP:20260421T065039
CREATED:20231206T133635Z
LAST-MODIFIED:20240202T103331Z
UID:10000751-1713916800-1714089599@csfv.fr
SUMMARY:RSE : LES FONDAMENTAUX
DESCRIPTION:Public : adhérents ayant suivi la Formation Initiale CFTC \nObjectifs de la formation : \n\nComprendre les enjeux de la RSE\nConnaître l’encadrement réglementaire\nTrouver les leviers pour s’inscrire dans la stratégie RSE de l’entreprise\nIntégrer la RSE dans son entreprise au quotidien\n\nProgramme : \n\nDéfinition du cadre de la RSE\nContexte scientifique\nContexte réglementaire\nAgir en tant que partie prenante\nRéagir et construire avec les autres acteurs de l’entreprise\n\nTELECHARGER LE PROGRAMME DE FORMATION
URL:https://csfv.fr/formation/rse-les-fondamentaux-avril-2024/
LOCATION:Fédération CFTC-CSFV\, 34 quai de la Loire\, Paris\, 75019\, France
CATEGORIES:AGIR
ATTACH;FMTTYPE=image/jpeg:https://csfv.fr/wp-content/uploads/2022/08/vignettes-formation-rse.jpg
ORGANIZER;CN="Service Formation agr%C3%A9%C3%A9 par l'ISF-CFTC":MAILTO:formation@csfv.fr
GEO:48.8848179;2.3740736
X-APPLE-STRUCTURED-LOCATION;VALUE=URI;X-ADDRESS=Fédération CFTC-CSFV 34 quai de la Loire Paris 75019 France;X-APPLE-RADIUS=500;X-TITLE=34 quai de la Loire:geo:2.3740736,48.8848179
END:VEVENT
END:VCALENDAR